BEGIN:VCALENDAR
VERSION:2.0
PRODID:-//Squarespace Inc/Squarespace 6//v6//EN
BEGIN:VEVENT
UID:59e407ef4c326d9bad9e3d24@squarespace.com
DTSTAMP:20171115T001304Z
DTSTART:20171120T213000Z
DTEND:20171120T223000Z
SUMMARY:Coffee and Chat
END:VEVENT
END:VCALENDAR
