BEGIN:VCALENDAR
VERSION:2.0
PRODID:-//Squarespace Inc/Squarespace 6//v6//EN
BEGIN:VEVENT
UID:5c5a42fee4966ba9c22b9f73@squarespace.com
DTSTAMP:20190208T052650Z
DTSTART:20190221T070000Z
DTEND:20190221T090000Z
SUMMARY:The Chamber Strategy Launch 2019
GEO:-21.141889;149.185529
LOCATION:The Grazing Goat Cafe\, 58 Wood St\, Mackay\, Qld\, 4740\, Austral
 ia
END:VEVENT
END:VCALENDAR
