BEGIN:VCALENDAR
VERSION:2.0
PRODID:-//Squarespace Inc/Squarespace 6//v6//EN
BEGIN:VEVENT
UID:5b735e751ae6cfcca71cf14b@squarespace.com
DTSTAMP:20180814T230410Z
DTSTART:20180903T211500Z
DTEND:20180903T224500Z
SUMMARY:Business @ Breakfast 4.0
END:VEVENT
END:VCALENDAR
