BEGIN:VCALENDAR
VERSION:2.0
PRODID:-//Squarespace Inc/Squarespace 6//v6//EN
BEGIN:VEVENT
UID:5ad927fa575d1fa82eb5bf41@squarespace.com
DTSTAMP:20180419T233933Z
DTSTART:20180601T001500Z
DTEND:20180601T051500Z
SUMMARY:QSBW Power your Sales Workshop & Seminar with Chris Helder
END:VEVENT
END:VCALENDAR
