BEGIN:VCALENDAR
VERSION:2.0
PRODID:-//Squarespace Inc/Squarespace 6//v6//EN
BEGIN:VEVENT
UID:5beb9db821c67c15ed8c201f@squarespace.com
DTSTAMP:20181114T041838Z
DTSTART:20181213T070000Z
DTEND:20181213T090000Z
SUMMARY:Chamber Christmas Party
END:VEVENT
END:VCALENDAR
