BEGIN:VCALENDAR
VERSION:2.0
PRODID:-//Squarespace Inc/Squarespace 6//v6//EN
BEGIN:VEVENT
UID:5ba065542b6a28392b563059@squarespace.com
DTSTAMP:20180918T024244Z
DTSTART:20181012T013000Z
DTEND:20181012T041500Z
SUMMARY:AGM / Champions of Industry
END:VEVENT
END:VCALENDAR
